

BEGIN:VCALENDAR
VERSION:2.0
PRODID:-//hacksw/handcal//NONSGML v1.0//EN
CALSCALE:GREGORIAN
BEGIN:VEVENT
DTSTART:20260417T000000Z
DTEND:20260417T000000Z
DESCRIPTION:Farm Fresh Fridays!
LOCATION:
SUMMARY:⭐️FARM FRESH FRIDAYS!⭐️
We'll be adding NEW items as the growing season continues!
MARK YOUR CALENDAR FOR OUR NEXT DATE-
Friday\, April 17th
9 am-5 pm
Farm Fresh Goodies Available:
🍩Donuts (including CHERRY!)
🍺Cider (fresh-pressed & unpasteurized)
🍎Apples (limited selection)
🍯Local\, raw & unfiltered honey
🍁Maple syrup
🍏Caramel apples
🥤Cider slushies (if warm outside)
🪾Pussy willow arrangements (until sold out)
🧁Muffins\, 4-pack (banana\, apple crumble\, cho chip banana)
🍞Mini sweet breads (banana\, cho chip banana)
🥚NEW! Pastured farm fresh eggs from Barefoot & Backroads
🥩And possibly something else this week\, or next...
⭐️Stay tuned for a future FB post regarding special orders for donuts & cider!⭐️
DON'T FORGET-
Open FRIDAYS ONLY:
April 17\, 24
May 1\, 8\, 15\, 22\, 29
Summer schedule TBA
9 am-5 pm
6580 Judd Rd.
Milan
💵We take cash\, check\, credit\, and tap to pay on your phone!
URL;VALUE=URI:https://milanevents.org/eventdetail.php?id=2520
DTSTAMP:20260420T063239Z
UID:69e600c7adf3b
END:VEVENT
END:VCALENDAR