

BEGIN:VCALENDAR
VERSION:2.0
PRODID:-//hacksw/handcal//NONSGML v1.0//EN
CALSCALE:GREGORIAN
BEGIN:VEVENT
DTSTART:20260422T000000Z
DTEND:20260422T000000Z
DESCRIPTION:Chamber Mixer!
LOCATION:
SUMMARY:Join us for an evening of connection\, conversation\, and community at our Chamber Member Mixer at The Owl!
Whether you're a longtime member or new to the Milan Area Chamber\, this is the perfect opportunity to meet fellow business owners\, grow your network\, and build meaningful relationships in a relaxed\, welcoming atmosphere.
Enjoy great drinks\, casual conversation\, and the chance to connect with other local professionals who are invested in our community’s success.
📅 Tuesday\, April 22
⏰ 5:00 PM – 7:00 PM
📍 The Owl
Bring a friend\, bring your business cards\, and come ready to mingle—we can’t wait to see you there!
URL;VALUE=URI:https://milanevents.org/eventdetail.php?id=2557
DTSTAMP:20260420T114438Z
UID:69e649e6ded83
END:VEVENT
END:VCALENDAR